BEGIN:VCALENDAR
VERSION:2.0
PRODID:-//مدرسة دار الحنان - ECPv6.15.20//NONSGML v1.0//EN
CALSCALE:GREGORIAN
METHOD:PUBLISH
X-WR-CALNAME:مدرسة دار الحنان
X-ORIGINAL-URL:https://dhs.edu.sa
X-WR-CALDESC:Events for مدرسة دار الحنان
REFRESH-INTERVAL;VALUE=DURATION:PT1H
X-Robots-Tag:noindex
X-PUBLISHED-TTL:PT1H
BEGIN:VTIMEZONE
TZID:UTC
BEGIN:STANDARD
TZOFFSETFROM:+0000
TZOFFSETTO:+0000
TZNAME:UTC
DTSTART:20220101T000000
END:STANDARD
END:VTIMEZONE
BEGIN:VEVENT
DTSTART;VALUE=DATE:20250504
DTEND;VALUE=DATE:20250506
DTSTAMP:20260423T152851
CREATED:20240926T112116Z
LAST-MODIFIED:20240926T112116Z
UID:8808-1746316800-1746489599@dhs.edu.sa
SUMMARY:إجازة نهاية أسبوع مطولة
DESCRIPTION:يومي الأحد 6-11-1446هـ \nوالاثنين 7-11-1446هـ
URL:https://dhs.edu.sa/tribe_events/%d8%a5%d8%ac%d8%a7%d8%b2%d8%a9-%d9%86%d9%87%d8%a7%d9%8a%d8%a9-%d8%a3%d8%b3%d8%a8%d9%88%d8%b9-%d9%85%d8%b7%d9%88%d9%84%d8%a9-2/
END:VEVENT
BEGIN:VEVENT
DTSTART;VALUE=DATE:20250406
DTEND;VALUE=DATE:20250407
DTSTAMP:20260423T152851
CREATED:20240926T093657Z
LAST-MODIFIED:20240926T093657Z
UID:8806-1743897600-1743983999@dhs.edu.sa
SUMMARY:بداية الدراسة بعد إجازة عيد الفطر
DESCRIPTION:الأحد الموافق 8-10–1446هـ
URL:https://dhs.edu.sa/tribe_events/%d8%a8%d8%af%d8%a7%d9%8a%d8%a9-%d8%a7%d9%84%d8%af%d8%b1%d8%a7%d8%b3%d8%a9-%d8%a8%d8%b9%d8%af-%d8%a5%d8%ac%d8%a7%d8%b2%d8%a9-%d8%b9%d9%8a%d8%af-%d8%a7%d9%84%d9%81%d8%b7%d8%b1/
END:VEVENT
BEGIN:VEVENT
DTSTART;VALUE=DATE:20250320
DTEND;VALUE=DATE:20250321
DTSTAMP:20260423T152851
CREATED:20240926T093527Z
LAST-MODIFIED:20240926T093527Z
UID:8804-1742428800-1742515199@dhs.edu.sa
SUMMARY:بداية إجازة عيد الفطر
DESCRIPTION:الخميس الموافق 20-9-1446هـ
URL:https://dhs.edu.sa/tribe_events/%d8%a8%d8%af%d8%a7%d9%8a%d8%a9-%d8%a5%d8%ac%d8%a7%d8%b2%d8%a9-%d8%b9%d9%8a%d8%af-%d8%a7%d9%84%d9%81%d8%b7%d8%b1/
END:VEVENT
BEGIN:VEVENT
DTSTART;VALUE=DATE:20250302
DTEND;VALUE=DATE:20250303
DTSTAMP:20260423T152851
CREATED:20240925T091258Z
LAST-MODIFIED:20240925T091321Z
UID:8800-1740873600-1740959999@dhs.edu.sa
SUMMARY:بداية الفصل الدراسي الثالث للعام 1446هـ
DESCRIPTION:بداية الفصل الدراسي الثالث يوم الأحد الموافق 2 – 9-1446هـ
URL:https://dhs.edu.sa/tribe_events/%d8%a8%d8%af%d8%a7%d9%8a%d8%a9-%d8%a7%d9%84%d9%81%d8%b5%d9%84-%d8%a7%d9%84%d8%af%d8%b1%d8%a7%d8%b3%d9%8a-%d8%a7%d9%84%d8%ab%d8%a7%d9%84%d8%ab-%d9%84%d9%84%d8%b9%d8%a7%d9%85-1446%d9%87%d9%80/
END:VEVENT
BEGIN:VEVENT
DTSTART;VALUE=DATE:20250224
DTEND;VALUE=DATE:20250225
DTSTAMP:20260423T152851
CREATED:20240925T070735Z
LAST-MODIFIED:20240925T091123Z
UID:8798-1740355200-1740441599@dhs.edu.sa
SUMMARY:بداية إجازة نهايةالفصل الدراسي الثاني
DESCRIPTION:الإثنين الموافق 25-8-1446هـ
URL:https://dhs.edu.sa/tribe_events/%d8%a8%d8%af%d8%a7%d9%8a%d8%a9-%d8%a5%d8%ac%d8%a7%d8%b2%d8%a9-%d9%86%d9%87%d8%a7%d9%8a%d8%a9%d8%a7%d9%84%d9%81%d8%b5%d9%84-%d8%a7%d9%84%d8%af%d8%b1%d8%a7%d8%b3%d9%8a-%d8%a7%d9%84%d8%ab%d8%a7%d9%86/
END:VEVENT
BEGIN:VEVENT
DTSTART;VALUE=DATE:20250223
DTEND;VALUE=DATE:20250224
DTSTAMP:20260423T152851
CREATED:20240925T070152Z
LAST-MODIFIED:20240925T070152Z
UID:8796-1740268800-1740355199@dhs.edu.sa
SUMMARY:إجازة يوم التأسيس
DESCRIPTION:الأحد الموافق 24-8-1446هـ
URL:https://dhs.edu.sa/tribe_events/%d8%a5%d8%ac%d8%a7%d8%b2%d8%a9-%d9%8a%d9%88%d9%85-%d8%a7%d9%84%d8%aa%d8%a3%d8%b3%d9%8a%d8%b3/
END:VEVENT
BEGIN:VEVENT
DTSTART;VALUE=DATE:20250112
DTEND;VALUE=DATE:20250113
DTSTAMP:20260423T152851
CREATED:20240925T065201Z
LAST-MODIFIED:20240925T065656Z
UID:8794-1736640000-1736726399@dhs.edu.sa
SUMMARY:بداية الدراسة بعد إجازة منتصف العام الدارسي
DESCRIPTION:الأحد الموافق 12-7-1446هـ
URL:https://dhs.edu.sa/tribe_events/%d8%a8%d8%af%d8%a7%d9%8a%d8%a9-%d8%a7%d9%84%d8%af%d8%b1%d8%a7%d8%b3%d8%a9-%d8%a8%d8%b9%d8%af-%d8%a5%d8%ac%d8%a7%d8%b2%d8%a9-%d9%85%d9%86%d8%aa%d8%b5%d9%81-%d8%a7%d9%84%d8%b9%d8%a7%d9%85-%d8%a7%d9%84/
END:VEVENT
BEGIN:VEVENT
DTSTART;VALUE=DATE:20250103
DTEND;VALUE=DATE:20250104
DTSTAMP:20260423T152851
CREATED:20240925T065104Z
LAST-MODIFIED:20240925T065104Z
UID:8792-1735862400-1735948799@dhs.edu.sa
SUMMARY:بداية إجازة منتصف العام الدراسي
DESCRIPTION:بداية إجازة منتص العام الدراسي الجمعة الموافق 3-7-1446هـ
URL:https://dhs.edu.sa/tribe_events/%d8%a8%d8%af%d8%a7%d9%8a%d8%a9-%d8%a5%d8%ac%d8%a7%d8%b2%d8%a9-%d9%85%d9%86%d8%aa%d8%b5%d9%81-%d8%a7%d9%84%d8%b9%d8%a7%d9%85-%d8%a7%d9%84%d8%af%d8%b1%d8%a7%d8%b3%d9%8a/
END:VEVENT
BEGIN:VEVENT
DTSTART;VALUE=DATE:20241211
DTEND;VALUE=DATE:20241213
DTSTAMP:20260423T152851
CREATED:20240925T060227Z
LAST-MODIFIED:20240925T061110Z
UID:8786-1733875200-1734047999@dhs.edu.sa
SUMMARY:إجازة نهاية أسبوع مطولة
DESCRIPTION:إجازة مطولة يومي الأربعاء الموافق 10-6-1446هـ  والخميس الموافق 11-6-1446هـ
URL:https://dhs.edu.sa/tribe_events/%d8%a5%d8%ac%d8%a7%d8%b2%d8%a9-%d9%85%d8%b7%d9%88%d9%84%d8%a9/
END:VEVENT
BEGIN:VEVENT
DTSTART;VALUE=DATE:20241117
DTEND;VALUE=DATE:20241118
DTSTAMP:20260423T152851
CREATED:20240925T060031Z
LAST-MODIFIED:20240925T060031Z
UID:8784-1731801600-1731887999@dhs.edu.sa
SUMMARY:بداية الفصل الدراسي الثاني للعام 1446هـ
DESCRIPTION:يوم الأحد الموافق 15-5-1446هـ
URL:https://dhs.edu.sa/tribe_events/%d8%a8%d8%af%d8%a7%d9%8a%d8%a9-%d8%a7%d9%84%d9%81%d8%b5%d9%84-%d8%a7%d9%84%d8%af%d8%b1%d8%a7%d8%b3%d9%8a-%d8%a7%d9%84%d8%ab%d8%a7%d9%86%d9%8a-%d9%84%d9%84%d8%b9%d8%a7%d9%85-1446%d9%87%d9%80/
END:VEVENT
BEGIN:VEVENT
DTSTART;VALUE=DATE:20241108
DTEND;VALUE=DATE:20241109
DTSTAMP:20260423T152851
CREATED:20240925T055843Z
LAST-MODIFIED:20240925T061910Z
UID:8779-1731024000-1731110399@dhs.edu.sa
SUMMARY:بداية إجازة نهاية الفصل الدراسي الأول للعام 1446هـ
DESCRIPTION:بدء إجازة نهاية الفصل الدراسي الأول للعام 1446هـ يوم الجمعة الموافق 8-5-1446هـ
URL:https://dhs.edu.sa/tribe_events/%d8%a8%d8%af%d8%a1-%d8%a7%d8%ac%d8%a7%d8%b2%d8%a9-%d9%86%d9%87%d8%a7%d9%8a%d8%a9-%d8%a7%d9%84%d9%81%d8%b5%d9%84-%d8%a7%d9%84%d8%af%d8%b1%d8%a7%d8%b3%d9%8a-%d8%a7%d9%84%d8%a3%d9%88%d9%84-%d9%84%d9%84/
END:VEVENT
BEGIN:VEVENT
DTSTART;VALUE=DATE:20241103
DTEND;VALUE=DATE:20241104
DTSTAMP:20260423T152851
CREATED:20240925T055724Z
LAST-MODIFIED:20240925T055724Z
UID:8777-1730592000-1730678399@dhs.edu.sa
SUMMARY:بدء الاختبارات النهائية للفصل الدراسي الأول 1446هـ
DESCRIPTION:بدء الاختبارات النهائية للابتدائي والمتوسط والثانوي الأحد الموافق 1 – 5 – 1446هـ
URL:https://dhs.edu.sa/tribe_events/%d8%a8%d8%af%d8%a1-%d8%a7%d9%84%d8%a7%d8%ae%d8%aa%d8%a8%d8%a7%d8%b1%d8%a7%d8%aa-%d8%a7%d9%84%d9%86%d9%87%d8%a7%d8%a6%d9%8a%d8%a9-%d9%84%d9%84%d9%81%d8%b5%d9%84-%d8%a7%d9%84%d8%af%d8%b1%d8%a7%d8%b3/
END:VEVENT
BEGIN:VEVENT
DTSTART;VALUE=DATE:20241017
DTEND;VALUE=DATE:20241018
DTSTAMP:20260423T152851
CREATED:20240925T055208Z
LAST-MODIFIED:20240925T061133Z
UID:8775-1729123200-1729209599@dhs.edu.sa
SUMMARY:إجازة نهاية أسبوع مطولة
DESCRIPTION:الخميس الموافق14-4-1446هـ
URL:https://dhs.edu.sa/tribe_events/%d8%a7%d8%ac%d8%a7%d8%b2%d8%a9-%d9%85%d8%b7%d9%88%d9%84%d8%a9/
END:VEVENT
BEGIN:VEVENT
DTSTART;TZID=UTC:20240925T080000
DTEND;TZID=UTC:20240925T170000
DTSTAMP:20260423T152851
CREATED:20240925T102923Z
LAST-MODIFIED:20240925T102923Z
UID:8802-1727251200-1727283600@dhs.edu.sa
SUMMARY:بداية إجازة عيدالفطر
DESCRIPTION:بداية إجازة عيدالفطر الخميس الموافق 20-9-1446هـ
URL:https://dhs.edu.sa/tribe_events/%d8%a8%d8%af%d8%a7%d9%8a%d8%a9-%d8%a5%d8%ac%d8%a7%d8%b2%d8%a9-%d8%b9%d9%8a%d8%af%d8%a7%d9%84%d9%81%d8%b7%d8%b1/
END:VEVENT
BEGIN:VEVENT
DTSTART;VALUE=DATE:20240922
DTEND;VALUE=DATE:20240924
DTSTAMP:20260423T152851
CREATED:20240925T054854Z
LAST-MODIFIED:20240925T060549Z
UID:8771-1726963200-1727135999@dhs.edu.sa
SUMMARY:إجازة العيد الوطني 94
DESCRIPTION:يومي الأحد الموافق 19 – 3-1446هـ والإثنين 20-3–1446هـ
URL:https://dhs.edu.sa/tribe_events/%d8%a7%d8%ac%d8%a7%d8%b2%d8%a9-%d8%a7%d9%84%d8%b9%d9%8a%d8%af-%d8%a7%d9%84%d9%88%d8%b7%d9%86%d9%8a-94/
END:VEVENT
BEGIN:VEVENT
DTSTART;VALUE=DATE:20240829
DTEND;VALUE=DATE:20240830
DTSTAMP:20260423T152851
CREATED:20240925T054235Z
LAST-MODIFIED:20240925T055040Z
UID:8768-1724889600-1724975999@dhs.edu.sa
SUMMARY:الاجتماع العام للأمهات لجميع المراحل الدراسية
DESCRIPTION:الاجتماع العام للأمهات لجميع المراحل (رياض الأطفال ، ابتدائي ، متوسط وثانوي) الخميس الموافق 25-2-1446هـ
URL:https://dhs.edu.sa/tribe_events/%d8%a7%d9%84%d8%a7%d8%ac%d8%aa%d9%85%d8%a7%d8%b9-%d8%a7%d9%84%d8%b9%d8%a7%d9%85-%d9%84%d9%84%d8%a3%d9%85%d9%87%d8%a7%d8%aa-%d9%84%d8%ac%d9%85%d9%8a%d8%b9-%d8%a7%d9%84%d9%85%d8%b1%d8%a7%d8%ad%d9%84/
END:VEVENT
BEGIN:VEVENT
DTSTART;VALUE=DATE:20240818
DTEND;VALUE=DATE:20240819
DTSTAMP:20260423T152851
CREATED:20240925T053953Z
LAST-MODIFIED:20240925T055012Z
UID:8766-1723939200-1724025599@dhs.edu.sa
SUMMARY:بداية العام الدراسي 1446هـ للطالبات
DESCRIPTION:بداية العام الدراسي 1446هـ للطالبات يوم الأحد الموافق 14-2-1446هـ
URL:https://dhs.edu.sa/tribe_events/%d8%a8%d8%af%d8%a7%d9%8a%d8%a9-%d8%a7%d9%84%d8%b9%d8%a7%d9%85-%d8%a7%d9%84%d8%af%d8%b1%d8%a7%d8%b3%d9%8a-1446%d9%87%d9%80-%d9%84%d9%84%d8%b7%d8%a7%d9%84%d8%a8%d8%a7%d8%aa/
END:VEVENT
BEGIN:VEVENT
DTSTART;TZID=UTC:20240509T190000
DTEND;TZID=UTC:20240509T210000
DTSTAMP:20260423T152851
CREATED:20240505T085537Z
LAST-MODIFIED:20240505T085537Z
UID:8736-1715281200-1715288400@dhs.edu.sa
SUMMARY:حفل تخرج طالبات الثانوية العامة _ الدفعة 54
DESCRIPTION:حفل تخرج طالبات الثانوية العامة _ الدفعة 54 
URL:https://dhs.edu.sa/tribe_events/%d8%ad%d9%81%d9%84-%d8%aa%d8%ae%d8%b1%d8%ac-%d8%b7%d8%a7%d9%84%d8%a8%d8%a7%d8%aa-%d8%a7%d9%84%d8%ab%d8%a7%d9%86%d9%88%d9%8a%d8%a9-%d8%a7%d9%84%d8%b9%d8%a7%d9%85%d8%a9-_-%d8%a7%d9%84%d8%af%d9%81%d8%b9/
LOCATION:مدرسة دار الحنان
ATTACH;FMTTYPE=image/jpeg:https://dhs.edu.sa/wp-content/uploads/2024/05/دعوة-54.jpg
END:VEVENT
BEGIN:VEVENT
DTSTART;VALUE=DATE:20240502
DTEND;VALUE=DATE:20240503
DTSTAMP:20260423T152851
CREATED:20240505T092042Z
LAST-MODIFIED:20240505T092042Z
UID:8757-1714608000-1714694399@dhs.edu.sa
SUMMARY:اجازة نهاية أسبوع مطولة
DESCRIPTION:الخميس الموافق 23_10_1445
URL:https://dhs.edu.sa/tribe_events/%d8%a7%d8%ac%d8%a7%d8%b2%d8%a9-%d9%86%d9%87%d8%a7%d9%8a%d8%a9-%d8%a3%d8%b3%d8%a8%d9%88%d8%b9-%d9%85%d8%b7%d9%88%d9%84%d8%a9-3/
END:VEVENT
BEGIN:VEVENT
DTSTART;VALUE=DATE:20240415
DTEND;VALUE=DATE:20240416
DTSTAMP:20260423T152851
CREATED:20240505T091221Z
LAST-MODIFIED:20240505T092408Z
UID:8747-1713139200-1713225599@dhs.edu.sa
SUMMARY:بداية الدراسة بعد اجازة عيد الفطر
DESCRIPTION:الاثنين الموافق 6_10_1445
URL:https://dhs.edu.sa/tribe_events/%d8%a8%d8%af%d8%a7%d9%8a%d8%a9-%d8%a7%d9%84%d8%af%d8%b1%d8%a7%d8%b3%d8%a9-%d8%a8%d8%b9%d8%af-%d8%a7%d8%ac%d8%a7%d8%b2%d8%a9-%d8%b9%d9%8a%d8%af-%d8%a7%d9%84%d9%81%d8%b7%d8%b1/
END:VEVENT
BEGIN:VEVENT
DTSTART;VALUE=DATE:20240328
DTEND;VALUE=DATE:20240329
DTSTAMP:20260423T152851
CREATED:20240505T091113Z
LAST-MODIFIED:20240505T091113Z
UID:8745-1711584000-1711670399@dhs.edu.sa
SUMMARY:بداية اجازة عيد الفطر
DESCRIPTION:بنهاية دوم الخمس الموافق 18_9_1445
URL:https://dhs.edu.sa/tribe_events/%d8%a8%d8%af%d8%a7%d9%8a%d8%a9-%d8%a7%d8%ac%d8%a7%d8%b2%d8%a9-%d8%b9%d9%8a%d8%af-%d8%a7%d9%84%d9%81%d8%b7%d8%b1/
END:VEVENT
BEGIN:VEVENT
DTSTART;VALUE=DATE:20240303
DTEND;VALUE=DATE:20240304
DTSTAMP:20260423T152851
CREATED:20240505T090951Z
LAST-MODIFIED:20240505T090951Z
UID:8743-1709424000-1709510399@dhs.edu.sa
SUMMARY:بداية الدراسة للفصل الدراسي الثالث
DESCRIPTION:الأحد الموافق 22_8_1445
URL:https://dhs.edu.sa/tribe_events/%d8%a8%d8%af%d8%a7%d9%8a%d8%a9-%d8%a7%d9%84%d8%af%d8%b1%d8%a7%d8%b3%d8%a9-%d9%84%d9%84%d9%81%d8%b5%d9%84-%d8%a7%d9%84%d8%af%d8%b1%d8%a7%d8%b3%d9%8a-%d8%a7%d9%84%d8%ab%d8%a7%d9%84%d8%ab/
END:VEVENT
BEGIN:VEVENT
DTSTART;VALUE=DATE:20240222
DTEND;VALUE=DATE:20240223
DTSTAMP:20260423T152851
CREATED:20240505T090822Z
LAST-MODIFIED:20240505T090822Z
UID:8741-1708560000-1708646399@dhs.edu.sa
SUMMARY:اجازة يوم التأسيس وبداية أجازة الفصل الدراسي الثاني
DESCRIPTION:الخميس الموافق  12_8_1445
URL:https://dhs.edu.sa/tribe_events/%d8%a7%d8%ac%d8%a7%d8%b2%d8%a9-%d9%8a%d9%88%d9%85-%d8%a7%d9%84%d8%aa%d8%a3%d8%b3%d9%8a%d8%b3-%d9%88%d8%a8%d8%af%d8%a7%d9%8a%d8%a9-%d8%a3%d8%ac%d8%a7%d8%b2%d8%a9-%d8%a7%d9%84%d9%81%d8%b5%d9%84-%d8%a7/
END:VEVENT
BEGIN:VEVENT
DTSTART;VALUE=DATE:20240128
DTEND;VALUE=DATE:20240129
DTSTAMP:20260423T152851
CREATED:20240505T091952Z
LAST-MODIFIED:20240505T091952Z
UID:8755-1706400000-1706486399@dhs.edu.sa
SUMMARY:اجازة نهاية أسبوع مطولة
DESCRIPTION:الأحد 16_7_1445
URL:https://dhs.edu.sa/tribe_events/%d8%a7%d8%ac%d8%a7%d8%b2%d8%a9-%d9%86%d9%87%d8%a7%d9%8a%d8%a9-%d8%a3%d8%b3%d8%a8%d9%88%d8%b9-%d9%85%d8%b7%d9%88%d9%84%d8%a9-2/
END:VEVENT
BEGIN:VEVENT
DTSTART;TZID=UTC:20240114T000000
DTEND;TZID=UTC:20240114T000000
DTSTAMP:20260423T152851
CREATED:20231115T072710Z
LAST-MODIFIED:20240505T085208Z
UID:7930-1705190400-1705190400@dhs.edu.sa
SUMMARY:بداية الدراسة بعد إجازة منتصف الفصل الدرا سي الثاني
DESCRIPTION:اليـــــــوم : الأحد \nهجري : ٢-٧-١٤٤٥
URL:https://dhs.edu.sa/tribe_events/%d8%a8%d8%af%d8%a7%d9%8a%d8%a9-%d8%a7%d9%84%d8%af%d8%b1%d8%a7%d8%b3%d8%a9-%d8%a8%d8%b9%d8%af-%d8%a5%d8%ac%d8%a7%d8%b2%d8%a9-%d9%8a-%d8%a7%d9%84%d8%ab%d8%a7-%d9%86-%d9%85%d9%86%d8%aa%d8%b5%d9%81-%d8%a7/
LOCATION:مدرسة دار الحنان
END:VEVENT
BEGIN:VEVENT
DTSTART;TZID=UTC:20240104T000000
DTEND;TZID=UTC:20240104T000000
DTSTAMP:20260423T152851
CREATED:20231115T072426Z
LAST-MODIFIED:20240505T090446Z
UID:7928-1704326400-1704326400@dhs.edu.sa
SUMMARY:إجازة منتصف الفصل الدراسي الثاني
DESCRIPTION:بنهاية دوم الخميس الموافق 22_6_1445
URL:https://dhs.edu.sa/tribe_events/%d8%a5%d8%ac%d8%a7%d8%b2%d8%a9-%d9%85%d9%86%d8%aa%d8%b5%d9%81-%d8%a7%d9%84%d9%81%d8%b5%d9%84-%d8%a7%d9%84%d8%af%d8%b1%d8%a7%d8%b3%d9%8a-%d8%a7%d9%84%d8%ab%d8%a7%d9%86%d9%8a/
END:VEVENT
BEGIN:VEVENT
DTSTART;TZID=UTC:20231217T000000
DTEND;TZID=UTC:20231217T000000
DTSTAMP:20260423T152851
CREATED:20231031T073458Z
LAST-MODIFIED:20231115T065744Z
UID:7539-1702771200-1702771200@dhs.edu.sa
SUMMARY:إجازة نهاية أسبوع مطولة
DESCRIPTION:اليـــــــوم : الأحد ٤-٦-١٤٤٥
URL:https://dhs.edu.sa/tribe_events/%d8%a5%d8%ac%d8%a7%d8%b2%d8%a9-%d9%86%d9%87%d8%a7%d9%8a%d8%a9-%d8%a3%d8%b3%d8%a8%d9%88%d8%b9-%d9%85%d8%b7%d9%88%d9%84%d8%a9/
LOCATION:مدرسة دار الحنان
END:VEVENT
BEGIN:VEVENT
DTSTART;TZID=UTC:20231126T000000
DTEND;TZID=UTC:20231126T000000
DTSTAMP:20260423T152851
CREATED:20231031T073135Z
LAST-MODIFIED:20231115T063931Z
UID:7535-1700956800-1700956800@dhs.edu.sa
SUMMARY:بداية الدراسة للفصل الدراسي الثاني
DESCRIPTION:اليـــــــوم : الأحد ١٢-٥-١٤٤٥
URL:https://dhs.edu.sa/tribe_events/%d8%a8%d8%af%d8%a7%d9%8a%d8%a9-%d8%a7%d9%84%d8%af%d8%b1%d8%a7%d8%b3%d8%a9-%d9%84%d9%84%d9%81%d8%b5%d9%84-%d8%a7%d9%84%d8%af%d8%b1%d8%a7%d8%b3%d9%8a-%d8%a7%d9%84%d8%ab%d8%a7%d9%86%d9%8a/
LOCATION:مدرسة دار الحنان
END:VEVENT
BEGIN:VEVENT
DTSTART;VALUE=DATE:20231102
DTEND;VALUE=DATE:20231103
DTSTAMP:20260423T152851
CREATED:20240505T091821Z
LAST-MODIFIED:20240505T091821Z
UID:8753-1698883200-1698969599@dhs.edu.sa
SUMMARY:اجازة نهاية أسبوع مطولة
DESCRIPTION:الخميس الموافق 18_4_1445
URL:https://dhs.edu.sa/tribe_events/%d8%a7%d8%ac%d8%a7%d8%b2%d8%a9-%d9%86%d9%87%d8%a7%d9%8a%d8%a9-%d8%a3%d8%b3%d8%a8%d9%88%d8%b9-%d9%85%d8%b7%d9%88%d9%84%d8%a9/
END:VEVENT
BEGIN:VEVENT
DTSTART;VALUE=DATE:20230924
DTEND;VALUE=DATE:20230925
DTSTAMP:20260423T152851
CREATED:20240505T091632Z
LAST-MODIFIED:20240505T091632Z
UID:8751-1695513600-1695599999@dhs.edu.sa
SUMMARY:اجازة اليوم الوطني
DESCRIPTION:الأحد الموافق 9_3_1445
URL:https://dhs.edu.sa/tribe_events/%d8%a7%d8%ac%d8%a7%d8%b2%d8%a9-%d8%a7%d9%84%d9%8a%d9%88%d9%85-%d8%a7%d9%84%d9%88%d8%b7%d9%86%d9%8a/
END:VEVENT
END:VCALENDAR